BEGIN:VCALENDAR
VERSION:2.0
PRODID:-//Zimmerstutzen Schützengesellschaft „Edelweiss“ 1896 Hirschau e.V. - ECPv6.15.17//NONSGML v1.0//EN
CALSCALE:GREGORIAN
METHOD:PUBLISH
X-WR-CALNAME:Zimmerstutzen Schützengesellschaft „Edelweiss“ 1896 Hirschau e.V.
X-ORIGINAL-URL:https://edelweiss-hirschau.de
X-WR-CALDESC:Veranstaltungen für Zimmerstutzen Schützengesellschaft „Edelweiss“ 1896 Hirschau e.V.
REFRESH-INTERVAL;VALUE=DURATION:PT1H
X-Robots-Tag:noindex
X-PUBLISHED-TTL:PT1H
BEGIN:VTIMEZONE
TZID:UTC
BEGIN:STANDARD
TZOFFSETFROM:+0000
TZOFFSETTO:+0000
TZNAME:UTC
DTSTART:20230101T000000
END:STANDARD
END:VTIMEZONE
BEGIN:VEVENT
DTSTART;TZID=UTC:20241228T190000
DTEND;TZID=UTC:20241228T220000
DTSTAMP:20260422T192141
CREATED:20241231T114618Z
LAST-MODIFIED:20241231T114618Z
UID:434-1735412400-1735423200@edelweiss-hirschau.de
SUMMARY:Sektvortel 2024
DESCRIPTION:
URL:https://edelweiss-hirschau.de/event/sektvortel-2024/
LOCATION:Schützenheim Edelweiß Hirschau\, Hauptstraße 1\, Hirschau\, Bayern\, 92242\, Germany
CATEGORIES:Gesellschaftliche Veranstaltung
END:VEVENT
END:VCALENDAR