BEGIN:VCALENDAR
VERSION:2.0
PRODID:-//Zimmerstutzen Schützengesellschaft „Edelweiss“ 1896 Hirschau e.V. - ECPv6.15.17//NONSGML v1.0//EN
CALSCALE:GREGORIAN
METHOD:PUBLISH
X-WR-CALNAME:Zimmerstutzen Schützengesellschaft „Edelweiss“ 1896 Hirschau e.V.
X-ORIGINAL-URL:https://edelweiss-hirschau.de
X-WR-CALDESC:Veranstaltungen für Zimmerstutzen Schützengesellschaft „Edelweiss“ 1896 Hirschau e.V.
REFRESH-INTERVAL;VALUE=DURATION:PT1H
X-Robots-Tag:noindex
X-PUBLISHED-TTL:PT1H
BEGIN:VTIMEZONE
TZID:UTC
BEGIN:STANDARD
TZOFFSETFROM:+0000
TZOFFSETTO:+0000
TZNAME:UTC
DTSTART:20240101T000000
END:STANDARD
END:VTIMEZONE
BEGIN:VEVENT
DTSTART;TZID=UTC:20250201T180000
DTEND;TZID=UTC:20250201T220000
DTSTAMP:20260422T153024
CREATED:20241231T135435Z
LAST-MODIFIED:20241231T135435Z
UID:461-1738432800-1738447200@edelweiss-hirschau.de
SUMMARY:interne Buchung Schützenheim
DESCRIPTION:
URL:https://edelweiss-hirschau.de/event/interne-buchung-schuetzenheim/
LOCATION:Schützenheim Edelweiß Hirschau\, Hauptstraße 1\, Hirschau\, Bayern\, 92242\, Germany
END:VEVENT
BEGIN:VEVENT
DTSTART;TZID=UTC:20250203T180000
DTEND;TZID=UTC:20250203T210000
DTSTAMP:20260422T153024
CREATED:20241231T140700Z
LAST-MODIFIED:20241231T140700Z
UID:474-1738605600-1738616400@edelweiss-hirschau.de
SUMMARY:Training Laser\, Luftgewehr\, Luftpistole
DESCRIPTION:
URL:https://edelweiss-hirschau.de/event/training-laser-luftgewehr-luftpistole-4/
LOCATION:Schützenheim Edelweiß Hirschau\, Hauptstraße 1\, Hirschau\, Bayern\, 92242\, Germany
END:VEVENT
BEGIN:VEVENT
DTSTART;TZID=UTC:20250205T190000
DTEND;TZID=UTC:20250205T190000
DTSTAMP:20260422T153024
CREATED:20250121T205812Z
LAST-MODIFIED:20250121T205812Z
UID:590-1738782000-1738782000@edelweiss-hirschau.de
SUMMARY:Training Blasrohr
DESCRIPTION:
URL:https://edelweiss-hirschau.de/event/training-blasrohr-4/
LOCATION:Schützenheim Edelweiß Hirschau\, Hauptstraße 1\, Hirschau\, Bayern\, 92242\, Germany
END:VEVENT
BEGIN:VEVENT
DTSTART;TZID=UTC:20250208T190000
DTEND;TZID=UTC:20250208T220000
DTSTAMP:20260422T153024
CREATED:20241231T135953Z
LAST-MODIFIED:20241231T135953Z
UID:465-1739041200-1739052000@edelweiss-hirschau.de
SUMMARY:Geburtstagsschießen Januar/Februar und laufendes Wild
DESCRIPTION:Verantwortlich: Heidl Tobias\, Böller Klaus\, Heidl Günter
URL:https://edelweiss-hirschau.de/event/geburtstagsschiessen-januar-februar-und-laufendes-wild/
LOCATION:Schützenheim Edelweiß Hirschau\, Hauptstraße 1\, Hirschau\, Bayern\, 92242\, Germany
END:VEVENT
BEGIN:VEVENT
DTSTART;TZID=UTC:20250210T180000
DTEND;TZID=UTC:20250210T210000
DTSTAMP:20260422T153024
CREATED:20241231T140738Z
LAST-MODIFIED:20241231T140738Z
UID:476-1739210400-1739221200@edelweiss-hirschau.de
SUMMARY:Training Laser\, Luftgewehr\, Luftpistole
DESCRIPTION:
URL:https://edelweiss-hirschau.de/event/training-laser-luftgewehr-luftpistole-5/
LOCATION:Schützenheim Edelweiß Hirschau\, Hauptstraße 1\, Hirschau\, Bayern\, 92242\, Germany
END:VEVENT
BEGIN:VEVENT
DTSTART;TZID=UTC:20250212T190000
DTEND;TZID=UTC:20250212T190000
DTSTAMP:20260422T153024
CREATED:20250121T205834Z
LAST-MODIFIED:20250121T205834Z
UID:592-1739386800-1739386800@edelweiss-hirschau.de
SUMMARY:Training Blasrohr
DESCRIPTION:
URL:https://edelweiss-hirschau.de/event/training-blasrohr-5/
LOCATION:Schützenheim Edelweiß Hirschau\, Hauptstraße 1\, Hirschau\, Bayern\, 92242\, Germany
END:VEVENT
BEGIN:VEVENT
DTSTART;TZID=UTC:20250214T170000
DTEND;TZID=UTC:20250214T220000
DTSTAMP:20260422T153024
CREATED:20241231T140233Z
LAST-MODIFIED:20241231T140356Z
UID:467-1739552400-1739570400@edelweiss-hirschau.de
SUMMARY:Winderwanderung mit Schlachtschüssel
DESCRIPTION:Winterwanderung mit Schlachtschüssel am Fronberg \nTreffpunkt wird je nach Schneelage noch definiert.
URL:https://edelweiss-hirschau.de/event/winderwanderung-mit-schlachtschuessel/
LOCATION:Schützenheim Edelweiß Hirschau\, Hauptstraße 1\, Hirschau\, Bayern\, 92242\, Germany
END:VEVENT
BEGIN:VEVENT
DTSTART;TZID=UTC:20250217T180000
DTEND;TZID=UTC:20250217T210000
DTSTAMP:20260422T153024
CREATED:20241231T140814Z
LAST-MODIFIED:20241231T140814Z
UID:478-1739815200-1739826000@edelweiss-hirschau.de
SUMMARY:Training Laser\, Luftgewehr\, Luftpistole
DESCRIPTION:
URL:https://edelweiss-hirschau.de/event/training-laser-luftgewehr-luftpistole-6/
LOCATION:Schützenheim Edelweiß Hirschau\, Hauptstraße 1\, Hirschau\, Bayern\, 92242\, Germany
END:VEVENT
BEGIN:VEVENT
DTSTART;TZID=UTC:20250219T190000
DTEND;TZID=UTC:20250219T220000
DTSTAMP:20260422T153024
CREATED:20250121T205928Z
LAST-MODIFIED:20250121T205928Z
UID:594-1739991600-1740002400@edelweiss-hirschau.de
SUMMARY:Training Blasrohr
DESCRIPTION:
URL:https://edelweiss-hirschau.de/event/training-blasrohr-6/
LOCATION:Schützenheim Edelweiß Hirschau\, Hauptstraße 1\, Hirschau\, Bayern\, 92242\, Germany
END:VEVENT
BEGIN:VEVENT
DTSTART;TZID=UTC:20250222T190000
DTEND;TZID=UTC:20250222T220000
DTSTAMP:20260422T153024
CREATED:20250121T203513Z
LAST-MODIFIED:20250121T203513Z
UID:557-1740250800-1740261600@edelweiss-hirschau.de
SUMMARY:Überraschungsschießen plus laufendes Wild
DESCRIPTION:
URL:https://edelweiss-hirschau.de/event/ueberraschungsschiessen-plus-laufendes-wild/
LOCATION:Schützenheim Edelweiß Hirschau\, Hauptstraße 1\, Hirschau\, Bayern\, 92242\, Germany
END:VEVENT
BEGIN:VEVENT
DTSTART;TZID=UTC:20250224T180000
DTEND;TZID=UTC:20250224T210000
DTSTAMP:20260422T153024
CREATED:20241231T140848Z
LAST-MODIFIED:20241231T140848Z
UID:480-1740420000-1740430800@edelweiss-hirschau.de
SUMMARY:Training Laser\, Luftgewehr\, Luftpistole
DESCRIPTION:
URL:https://edelweiss-hirschau.de/event/training-laser-luftgewehr-luftpistole-7/
LOCATION:Schützenheim Edelweiß Hirschau\, Hauptstraße 1\, Hirschau\, Bayern\, 92242\, Germany
END:VEVENT
BEGIN:VEVENT
DTSTART;TZID=UTC:20250226T190000
DTEND;TZID=UTC:20250226T220000
DTSTAMP:20260422T153024
CREATED:20250121T205957Z
LAST-MODIFIED:20250121T205957Z
UID:596-1740596400-1740607200@edelweiss-hirschau.de
SUMMARY:Training Blasrohr
DESCRIPTION:
URL:https://edelweiss-hirschau.de/event/training-blasrohr-7/
LOCATION:Schützenheim Edelweiß Hirschau\, Hauptstraße 1\, Hirschau\, Bayern\, 92242\, Germany
END:VEVENT
END:VCALENDAR