BEGIN:VCALENDAR
VERSION:2.0
PRODID:-//Zimmerstutzen Schützengesellschaft „Edelweiss“ 1896 Hirschau e.V. - ECPv6.15.17//NONSGML v1.0//EN
CALSCALE:GREGORIAN
METHOD:PUBLISH
X-WR-CALNAME:Zimmerstutzen Schützengesellschaft „Edelweiss“ 1896 Hirschau e.V.
X-ORIGINAL-URL:https://edelweiss-hirschau.de
X-WR-CALDESC:Veranstaltungen für Zimmerstutzen Schützengesellschaft „Edelweiss“ 1896 Hirschau e.V.
REFRESH-INTERVAL;VALUE=DURATION:PT1H
X-Robots-Tag:noindex
X-PUBLISHED-TTL:PT1H
BEGIN:VTIMEZONE
TZID:UTC
BEGIN:STANDARD
TZOFFSETFROM:+0000
TZOFFSETTO:+0000
TZNAME:UTC
DTSTART:20240101T000000
END:STANDARD
END:VTIMEZONE
BEGIN:VEVENT
DTSTART;TZID=UTC:20250601T080000
DTEND;TZID=UTC:20250601T220000
DTSTAMP:20260422T080959
CREATED:20250113T204301Z
LAST-MODIFIED:20250113T204301Z
UID:501-1748764800-1748815200@edelweiss-hirschau.de
SUMMARY:Kumts Eina - Hirschauer Kulturtage
DESCRIPTION:
URL:https://edelweiss-hirschau.de/event/kumts-eina-hirschauer-kulturtage-2/
LOCATION:Schützenheim Edelweiß Hirschau\, Hauptstraße 1\, Hirschau\, Bayern\, 92242\, Germany
END:VEVENT
BEGIN:VEVENT
DTSTART;TZID=UTC:20250602T180000
DTEND;TZID=UTC:20250602T220000
DTSTAMP:20260422T080959
CREATED:20250113T210053Z
LAST-MODIFIED:20250113T210053Z
UID:534-1748887200-1748901600@edelweiss-hirschau.de
SUMMARY:Training Laser\, Luftgewehr\, Luftpistole
DESCRIPTION:
URL:https://edelweiss-hirschau.de/event/training-laser-luftgewehr-luftpistole-21/
LOCATION:Schützenheim Edelweiß Hirschau\, Hauptstraße 1\, Hirschau\, Bayern\, 92242\, Germany
END:VEVENT
BEGIN:VEVENT
DTSTART;TZID=UTC:20250609T180000
DTEND;TZID=UTC:20250609T220000
DTSTAMP:20260422T080959
CREATED:20250113T210127Z
LAST-MODIFIED:20250113T210127Z
UID:536-1749492000-1749506400@edelweiss-hirschau.de
SUMMARY:Training Laser\, Luftgewehr\, Luftpistole
DESCRIPTION:
URL:https://edelweiss-hirschau.de/event/training-laser-luftgewehr-luftpistole-22/
LOCATION:Schützenheim Edelweiß Hirschau\, Hauptstraße 1\, Hirschau\, Bayern\, 92242\, Germany
END:VEVENT
BEGIN:VEVENT
DTSTART;TZID=UTC:20250613T180000
DTEND;TZID=UTC:20250613T220000
DTSTAMP:20260422T080959
CREATED:20250113T203143Z
LAST-MODIFIED:20250113T203246Z
UID:488-1749837600-1749852000@edelweiss-hirschau.de
SUMMARY:Nudelvortl mit Hawaitoastessen
DESCRIPTION:
URL:https://edelweiss-hirschau.de/event/nudelvortl-mit-hawaitoastessen/
LOCATION:Schützenheim Edelweiß Hirschau\, Hauptstraße 1\, Hirschau\, Bayern\, 92242\, Germany
END:VEVENT
BEGIN:VEVENT
DTSTART;TZID=UTC:20250614T193000
DTEND;TZID=UTC:20250614T220000
DTSTAMP:20260422T080959
CREATED:20250121T204816Z
LAST-MODIFIED:20250121T204816Z
UID:579-1749929400-1749938400@edelweiss-hirschau.de
SUMMARY:Geburtstagsschießen Juni / Juli plus laufendes Wild
DESCRIPTION:
URL:https://edelweiss-hirschau.de/event/geburtstagsschiessen-juni-juli-plus-laufendes-wild/
LOCATION:Schützenheim Edelweiß Hirschau\, Hauptstraße 1\, Hirschau\, Bayern\, 92242\, Germany
END:VEVENT
BEGIN:VEVENT
DTSTART;TZID=UTC:20250616T180000
DTEND;TZID=UTC:20250616T220000
DTSTAMP:20260422T080959
CREATED:20250113T210157Z
LAST-MODIFIED:20250113T210157Z
UID:538-1750096800-1750111200@edelweiss-hirschau.de
SUMMARY:Training Laser\, Luftgewehr\, Luftpistole
DESCRIPTION:
URL:https://edelweiss-hirschau.de/event/training-laser-luftgewehr-luftpistole-23/
LOCATION:Schützenheim Edelweiß Hirschau\, Hauptstraße 1\, Hirschau\, Bayern\, 92242\, Germany
END:VEVENT
BEGIN:VEVENT
DTSTART;TZID=UTC:20250623T180000
DTEND;TZID=UTC:20250623T220000
DTSTAMP:20260422T080959
CREATED:20250113T210223Z
LAST-MODIFIED:20250113T210223Z
UID:540-1750701600-1750716000@edelweiss-hirschau.de
SUMMARY:Training Laser\, Luftgewehr\, Luftpistole
DESCRIPTION:
URL:https://edelweiss-hirschau.de/event/training-laser-luftgewehr-luftpistole-24/
LOCATION:Schützenheim Edelweiß Hirschau\, Hauptstraße 1\, Hirschau\, Bayern\, 92242\, Germany
END:VEVENT
BEGIN:VEVENT
DTSTART;TZID=UTC:20250626T180000
DTEND;TZID=UTC:20250626T190000
DTSTAMP:20260422T080959
CREATED:20250301T161813Z
LAST-MODIFIED:20250301T161813Z
UID:645-1750960800-1750964400@edelweiss-hirschau.de
SUMMARY:Gauschießen\, Wanderpokal in Neumühle
DESCRIPTION:
URL:https://edelweiss-hirschau.de/event/gauschiessen-wanderpokal-in-neumuehle/
LOCATION:Schützenheim Edelweiß Hirschau\, Hauptstraße 1\, Hirschau\, Bayern\, 92242\, Germany
END:VEVENT
BEGIN:VEVENT
DTSTART;TZID=UTC:20250627T180000
DTEND;TZID=UTC:20250627T220000
DTSTAMP:20260422T080959
CREATED:20250113T203347Z
LAST-MODIFIED:20250301T161720Z
UID:490-1751047200-1751061600@edelweiss-hirschau.de
SUMMARY:Eisessen der Schützendamen
DESCRIPTION:
URL:https://edelweiss-hirschau.de/event/eisessen-der-schuetzendamen/
LOCATION:Schützenheim Edelweiß Hirschau\, Hauptstraße 1\, Hirschau\, Bayern\, 92242\, Germany
END:VEVENT
BEGIN:VEVENT
DTSTART;TZID=UTC:20250628T180000
DTEND;TZID=UTC:20250628T190000
DTSTAMP:20260422T080959
CREATED:20250301T161912Z
LAST-MODIFIED:20250301T161912Z
UID:647-1751133600-1751137200@edelweiss-hirschau.de
SUMMARY:Gauschießen\, Wanderpokal in Neumühle
DESCRIPTION:
URL:https://edelweiss-hirschau.de/event/gauschiessen-wanderpokal-in-neumuehle-2/
LOCATION:Schützenheim Edelweiß Hirschau\, Hauptstraße 1\, Hirschau\, Bayern\, 92242\, Germany
END:VEVENT
BEGIN:VEVENT
DTSTART;TZID=UTC:20250630T180000
DTEND;TZID=UTC:20250630T220000
DTSTAMP:20260422T080959
CREATED:20250113T210250Z
LAST-MODIFIED:20250113T210250Z
UID:542-1751306400-1751320800@edelweiss-hirschau.de
SUMMARY:Training Laser\, Luftgewehr\, Luftpistole
DESCRIPTION:
URL:https://edelweiss-hirschau.de/event/training-laser-luftgewehr-luftpistole-25/
LOCATION:Schützenheim Edelweiß Hirschau\, Hauptstraße 1\, Hirschau\, Bayern\, 92242\, Germany
END:VEVENT
END:VCALENDAR