BEGIN:VCALENDAR
VERSION:2.0
PRODID:-//Zimmerstutzen Schützengesellschaft „Edelweiss“ 1896 Hirschau e.V. - ECPv6.15.17//NONSGML v1.0//EN
CALSCALE:GREGORIAN
METHOD:PUBLISH
X-ORIGINAL-URL:https://edelweiss-hirschau.de
X-WR-CALDESC:Veranstaltungen für Zimmerstutzen Schützengesellschaft „Edelweiss“ 1896 Hirschau e.V.
REFRESH-INTERVAL;VALUE=DURATION:PT1H
X-Robots-Tag:noindex
X-PUBLISHED-TTL:PT1H
BEGIN:VTIMEZONE
TZID:UTC
BEGIN:STANDARD
TZOFFSETFROM:+0000
TZOFFSETTO:+0000
TZNAME:UTC
DTSTART:20240101T000000
END:STANDARD
END:VTIMEZONE
BEGIN:VEVENT
DTSTART;TZID=UTC:20250702T150000
DTEND;TZID=UTC:20250702T220000
DTSTAMP:20260422T063041
CREATED:20250301T162013Z
LAST-MODIFIED:20250301T162047Z
UID:649-1751468400-1751493600@edelweiss-hirschau.de
SUMMARY:Wanderung zum Mariahilfbergfest
DESCRIPTION:Uhrzeit wir noch bekanntgegeben
URL:https://edelweiss-hirschau.de/event/wanderung-zum-mariahilfbergfest/
LOCATION:Bayern
END:VEVENT
BEGIN:VEVENT
DTSTART;TZID=UTC:20250702T190000
DTEND;TZID=UTC:20250702T210000
DTSTAMP:20260422T063041
CREATED:20250628T100247Z
LAST-MODIFIED:20250628T100247Z
UID:658-1751482800-1751490000@edelweiss-hirschau.de
SUMMARY:Training Blasrohr
DESCRIPTION:
URL:https://edelweiss-hirschau.de/event/training-blasrohr-21/
LOCATION:Schützenheim Edelweiß Hirschau\, Hauptstraße 1\, Hirschau\, Bayern\, 92242\, Germany
CATEGORIES:Training
END:VEVENT
BEGIN:VEVENT
DTSTART;TZID=UTC:20250707T180000
DTEND;TZID=UTC:20250707T220000
DTSTAMP:20260422T063041
CREATED:20250113T210317Z
LAST-MODIFIED:20250113T210317Z
UID:544-1751911200-1751925600@edelweiss-hirschau.de
SUMMARY:Training Laser\, Luftgewehr\, Luftpistole
DESCRIPTION:
URL:https://edelweiss-hirschau.de/event/training-laser-luftgewehr-luftpistole-26/
LOCATION:Schützenheim Edelweiß Hirschau\, Hauptstraße 1\, Hirschau\, Bayern\, 92242\, Germany
END:VEVENT
BEGIN:VEVENT
DTSTART;TZID=UTC:20250708T170000
DTEND;TZID=UTC:20250708T220000
DTSTAMP:20260422T063041
CREATED:20250301T162136Z
LAST-MODIFIED:20250301T162136Z
UID:651-1751994000-1752012000@edelweiss-hirschau.de
SUMMARY:Ranglistenschießen bei Edelweiß Hirschau
DESCRIPTION:
URL:https://edelweiss-hirschau.de/event/ranglistenschiessen-bei-edelweiss-hirschau/
LOCATION:Bayern
END:VEVENT
BEGIN:VEVENT
DTSTART;TZID=UTC:20250709T190000
DTEND;TZID=UTC:20250709T210000
DTSTAMP:20260422T063041
CREATED:20250628T100417Z
LAST-MODIFIED:20250628T100417Z
UID:660-1752087600-1752094800@edelweiss-hirschau.de
SUMMARY:Training Blasrohr
DESCRIPTION:
URL:https://edelweiss-hirschau.de/event/training-blasrohr-22/
LOCATION:Schützenheim Edelweiß Hirschau\, Hauptstraße 1\, Hirschau\, Bayern\, 92242\, Germany
CATEGORIES:Training
END:VEVENT
BEGIN:VEVENT
DTSTART;TZID=UTC:20250714T180000
DTEND;TZID=UTC:20250714T220000
DTSTAMP:20260422T063041
CREATED:20250113T210346Z
LAST-MODIFIED:20250113T210346Z
UID:546-1752516000-1752530400@edelweiss-hirschau.de
SUMMARY:Training Laser\, Luftgewehr\, Luftpistole
DESCRIPTION:
URL:https://edelweiss-hirschau.de/event/training-laser-luftgewehr-luftpistole-27/
LOCATION:Schützenheim Edelweiß Hirschau\, Hauptstraße 1\, Hirschau\, Bayern\, 92242\, Germany
END:VEVENT
BEGIN:VEVENT
DTSTART;TZID=UTC:20250716T190000
DTEND;TZID=UTC:20250716T210000
DTSTAMP:20260422T063041
CREATED:20250628T100444Z
LAST-MODIFIED:20250628T100444Z
UID:662-1752692400-1752699600@edelweiss-hirschau.de
SUMMARY:Training Blasrohr
DESCRIPTION:
URL:https://edelweiss-hirschau.de/event/training-blasrohr-23/
LOCATION:Schützenheim Edelweiß Hirschau\, Hauptstraße 1\, Hirschau\, Bayern\, 92242\, Germany
CATEGORIES:Training
END:VEVENT
BEGIN:VEVENT
DTSTART;TZID=UTC:20250716T193000
DTEND;TZID=UTC:20250716T220000
DTSTAMP:20260422T063041
CREATED:20250121T204908Z
LAST-MODIFIED:20250121T204908Z
UID:581-1752694200-1752703200@edelweiss-hirschau.de
SUMMARY:Ausschußsitzung
DESCRIPTION:
URL:https://edelweiss-hirschau.de/event/ausschusssitzung-3/
LOCATION:Schützenheim Edelweiß Hirschau\, Hauptstraße 1\, Hirschau\, Bayern\, 92242\, Germany
END:VEVENT
BEGIN:VEVENT
DTSTART;TZID=UTC:20250721T180000
DTEND;TZID=UTC:20250721T220000
DTSTAMP:20260422T063041
CREATED:20250113T210415Z
LAST-MODIFIED:20250113T210415Z
UID:548-1753120800-1753135200@edelweiss-hirschau.de
SUMMARY:Training Laser\, Luftgewehr\, Luftpistole
DESCRIPTION:
URL:https://edelweiss-hirschau.de/event/training-laser-luftgewehr-luftpistole-28/
LOCATION:Schützenheim Edelweiß Hirschau\, Hauptstraße 1\, Hirschau\, Bayern\, 92242\, Germany
END:VEVENT
BEGIN:VEVENT
DTSTART;TZID=UTC:20250723T190000
DTEND;TZID=UTC:20250723T210000
DTSTAMP:20260422T063041
CREATED:20250628T100527Z
LAST-MODIFIED:20250628T100527Z
UID:664-1753297200-1753304400@edelweiss-hirschau.de
SUMMARY:Training Blasrohr
DESCRIPTION:
URL:https://edelweiss-hirschau.de/event/training-blasrohr-24/
LOCATION:Schützenheim Edelweiß Hirschau\, Hauptstraße 1\, Hirschau\, Bayern\, 92242\, Germany
CATEGORIES:Training
END:VEVENT
BEGIN:VEVENT
DTSTART;TZID=UTC:20250726T170000
DTEND;TZID=UTC:20250726T220000
DTSTAMP:20260422T063041
CREATED:20250628T100006Z
LAST-MODIFIED:20250628T100006Z
UID:656-1753549200-1753567200@edelweiss-hirschau.de
SUMMARY:interne Veranstaltung
DESCRIPTION:
URL:https://edelweiss-hirschau.de/event/interne-veranstaltung/
LOCATION:Schützenheim Edelweiß Hirschau\, Hauptstraße 1\, Hirschau\, Bayern\, 92242\, Germany
CATEGORIES:Gesellschaftliche Veranstaltung
END:VEVENT
BEGIN:VEVENT
DTSTART;TZID=UTC:20250728T180000
DTEND;TZID=UTC:20250728T220000
DTSTAMP:20260422T063041
CREATED:20250113T210445Z
LAST-MODIFIED:20250113T210445Z
UID:550-1753725600-1753740000@edelweiss-hirschau.de
SUMMARY:Training Laser\, Luftgewehr\, Luftpistole
DESCRIPTION:
URL:https://edelweiss-hirschau.de/event/training-laser-luftgewehr-luftpistole-29/
LOCATION:Schützenheim Edelweiß Hirschau\, Hauptstraße 1\, Hirschau\, Bayern\, 92242\, Germany
END:VEVENT
BEGIN:VEVENT
DTSTART;TZID=UTC:20250730T190000
DTEND;TZID=UTC:20250730T210000
DTSTAMP:20260422T063041
CREATED:20250628T100555Z
LAST-MODIFIED:20250628T100555Z
UID:666-1753902000-1753909200@edelweiss-hirschau.de
SUMMARY:Training Blasrohr
DESCRIPTION:
URL:https://edelweiss-hirschau.de/event/training-blasrohr-25/
LOCATION:Schützenheim Edelweiß Hirschau\, Hauptstraße 1\, Hirschau\, Bayern\, 92242\, Germany
CATEGORIES:Training
END:VEVENT
END:VCALENDAR