BEGIN:VCALENDAR
VERSION:2.0
PRODID:-//Zimmerstutzen Schützengesellschaft „Edelweiss“ 1896 Hirschau e.V. - ECPv6.15.17//NONSGML v1.0//EN
CALSCALE:GREGORIAN
METHOD:PUBLISH
X-ORIGINAL-URL:https://edelweiss-hirschau.de
X-WR-CALDESC:Veranstaltungen für Zimmerstutzen Schützengesellschaft „Edelweiss“ 1896 Hirschau e.V.
REFRESH-INTERVAL;VALUE=DURATION:PT1H
X-Robots-Tag:noindex
X-PUBLISHED-TTL:PT1H
BEGIN:VTIMEZONE
TZID:UTC
BEGIN:STANDARD
TZOFFSETFROM:+0000
TZOFFSETTO:+0000
TZNAME:UTC
DTSTART:20240101T000000
END:STANDARD
END:VTIMEZONE
BEGIN:VEVENT
DTSTART;TZID=UTC:20250801T080000
DTEND;TZID=UTC:20250831T220000
DTSTAMP:20260422T042649
CREATED:20250113T210552Z
LAST-MODIFIED:20250113T210552Z
UID:552-1754035200-1756677600@edelweiss-hirschau.de
SUMMARY:Sommerpause 2025
DESCRIPTION:Der Schützenverein Edelweiß Hirschau verabschiedet sich in die Sommerpause 2025
URL:https://edelweiss-hirschau.de/event/sommerpause-2025/
LOCATION:Schützenheim Edelweiß Hirschau\, Hauptstraße 1\, Hirschau\, Bayern\, 92242\, Germany
END:VEVENT
BEGIN:VEVENT
DTSTART;TZID=UTC:20250801T180000
DTEND;TZID=UTC:20250801T220000
DTSTAMP:20260422T042649
CREATED:20250121T205200Z
LAST-MODIFIED:20250121T205200Z
UID:583-1754071200-1754085600@edelweiss-hirschau.de
SUMMARY:Sommerfest im Schloßgarten für die Mitglieder
DESCRIPTION:Anmeldung ist erforderlich
URL:https://edelweiss-hirschau.de/event/sommerfest-im-schlossgarten-fuer-die-mitglieder/
LOCATION:Schützenheim Edelweiß Hirschau\, Hauptstraße 1\, Hirschau\, Bayern\, 92242\, Germany
END:VEVENT
BEGIN:VEVENT
DTSTART;TZID=UTC:20250802T180000
DTEND;TZID=UTC:20250802T230000
DTSTAMP:20260422T042649
CREATED:20250722T190652Z
LAST-MODIFIED:20250722T190807Z
UID:670-1754157600-1754175600@edelweiss-hirschau.de
SUMMARY:interne Veranstaltung
DESCRIPTION:
URL:https://edelweiss-hirschau.de/event/interne-buchung-schuetzenheim-2/
LOCATION:Schützenheim Edelweiß Hirschau\, Hauptstraße 1\, Hirschau\, Bayern\, 92242\, Germany
CATEGORIES:Gesellschaftliche Veranstaltung
END:VEVENT
END:VCALENDAR