BEGIN:VCALENDAR
VERSION:2.0
PRODID:-//Zimmerstutzen Schützengesellschaft „Edelweiss“ 1896 Hirschau e.V. - ECPv6.15.17//NONSGML v1.0//EN
CALSCALE:GREGORIAN
METHOD:PUBLISH
X-WR-CALNAME:Zimmerstutzen Schützengesellschaft „Edelweiss“ 1896 Hirschau e.V.
X-ORIGINAL-URL:https://edelweiss-hirschau.de
X-WR-CALDESC:Veranstaltungen für Zimmerstutzen Schützengesellschaft „Edelweiss“ 1896 Hirschau e.V.
REFRESH-INTERVAL;VALUE=DURATION:PT1H
X-Robots-Tag:noindex
X-PUBLISHED-TTL:PT1H
BEGIN:VTIMEZONE
TZID:UTC
BEGIN:STANDARD
TZOFFSETFROM:+0000
TZOFFSETTO:+0000
TZNAME:UTC
DTSTART:20240101T000000
END:STANDARD
END:VTIMEZONE
BEGIN:VEVENT
DTSTART;TZID=UTC:20251004T193000
DTEND;TZID=UTC:20251004T220000
DTSTAMP:20260422T004947
CREATED:20250727T122815Z
LAST-MODIFIED:20250727T122815Z
UID:684-1759606200-1759615200@edelweiss-hirschau.de
SUMMARY:Erntedankschießen mit laufenden Wild und König/Liesl Essen
DESCRIPTION:
URL:https://edelweiss-hirschau.de/event/erntedankschiessen-mit-laufenden-wild-und-koenig-liesl-essen/
LOCATION:Schützenheim Edelweiß Hirschau\, Hauptstraße 1\, Hirschau\, Bayern\, 92242\, Germany
CATEGORIES:Gesellschaftliche Veranstaltung
END:VEVENT
BEGIN:VEVENT
DTSTART;TZID=UTC:20251017T180000
DTEND;TZID=UTC:20251017T220000
DTSTAMP:20260422T004947
CREATED:20250727T123240Z
LAST-MODIFIED:20250727T123240Z
UID:689-1760724000-1760738400@edelweiss-hirschau.de
SUMMARY:Hirschau von 1950 bis heute - Bilderschau von Josef Strobl
DESCRIPTION:
URL:https://edelweiss-hirschau.de/event/hirschau-von-1950-bis-heute-bilderschau-von-josef-strobl/
LOCATION:Schützenheim Edelweiß Hirschau\, Hauptstraße 1\, Hirschau\, Bayern\, 92242\, Germany
CATEGORIES:Gesellschaftliche Veranstaltung
END:VEVENT
BEGIN:VEVENT
DTSTART;TZID=UTC:20251022T193000
DTEND;TZID=UTC:20251022T220000
DTSTAMP:20260422T004947
CREATED:20250727T123331Z
LAST-MODIFIED:20250727T123331Z
UID:691-1761161400-1761170400@edelweiss-hirschau.de
SUMMARY:Ausschusssitzung
DESCRIPTION:
URL:https://edelweiss-hirschau.de/event/ausschusssitzung-5/
LOCATION:Schützenheim Edelweiß Hirschau\, Hauptstraße 1\, Hirschau\, Bayern\, 92242\, Germany
CATEGORIES:Gesellschaftliche Veranstaltung
END:VEVENT
BEGIN:VEVENT
DTSTART;TZID=UTC:20251025T150000
DTEND;TZID=UTC:20251025T180000
DTSTAMP:20260422T004947
CREATED:20250727T124136Z
LAST-MODIFIED:20250727T124136Z
UID:705-1761404400-1761415200@edelweiss-hirschau.de
SUMMARY:Siegerehrung Landkreismeisterschaft im Fichtenhof
DESCRIPTION:
URL:https://edelweiss-hirschau.de/event/siegerehrung-landkreismeisterschaft-im-fichtenhof/
LOCATION:Bayern
CATEGORIES:Gesellschaftliche Veranstaltung
END:VEVENT
BEGIN:VEVENT
DTSTART;TZID=UTC:20251031T180000
DTEND;TZID=UTC:20251031T220000
DTSTAMP:20260422T004947
CREATED:20250113T203823Z
LAST-MODIFIED:20250113T203840Z
UID:496-1761933600-1761948000@edelweiss-hirschau.de
SUMMARY:Halloween Schießen
DESCRIPTION:
URL:https://edelweiss-hirschau.de/event/helloween-schiessen/
LOCATION:Schützenheim Edelweiß Hirschau\, Hauptstraße 1\, Hirschau\, Bayern\, 92242\, Germany
END:VEVENT
END:VCALENDAR