BEGIN:VCALENDAR
VERSION:2.0
PRODID:-//Zimmerstutzen Schützengesellschaft „Edelweiss“ 1896 Hirschau e.V. - ECPv6.15.17//NONSGML v1.0//EN
CALSCALE:GREGORIAN
METHOD:PUBLISH
X-WR-CALNAME:Zimmerstutzen Schützengesellschaft „Edelweiss“ 1896 Hirschau e.V.
X-ORIGINAL-URL:https://edelweiss-hirschau.de
X-WR-CALDESC:Veranstaltungen für Zimmerstutzen Schützengesellschaft „Edelweiss“ 1896 Hirschau e.V.
REFRESH-INTERVAL;VALUE=DURATION:PT1H
X-Robots-Tag:noindex
X-PUBLISHED-TTL:PT1H
BEGIN:VTIMEZONE
TZID:UTC
BEGIN:STANDARD
TZOFFSETFROM:+0000
TZOFFSETTO:+0000
TZNAME:UTC
DTSTART:20240101T000000
END:STANDARD
END:VTIMEZONE
BEGIN:VEVENT
DTSTART;TZID=UTC:20251108T090000
DTEND;TZID=UTC:20251108T170000
DTSTAMP:20260421T224607
CREATED:20250727T123422Z
LAST-MODIFIED:20250727T123422Z
UID:693-1762592400-1762621200@edelweiss-hirschau.de
SUMMARY:Erste Hilfe Kurs für Vereinsmitglieder
DESCRIPTION:
URL:https://edelweiss-hirschau.de/event/erste-hilfe-kurs-fuer-vereinsmitglieder/
LOCATION:Schützenheim Edelweiß Hirschau\, Hauptstraße 1\, Hirschau\, Bayern\, 92242\, Germany
CATEGORIES:Gesellschaftliche Veranstaltung,Training
END:VEVENT
BEGIN:VEVENT
DTSTART;TZID=UTC:20251115T190000
DTEND;TZID=UTC:20251115T220000
DTSTAMP:20260421T224607
CREATED:20250727T123539Z
LAST-MODIFIED:20250727T123539Z
UID:695-1763233200-1763244000@edelweiss-hirschau.de
SUMMARY:Geburstagsvortl Oktober/November mit laufenden Wild\, Martinigans und Schützenbufett
DESCRIPTION:
URL:https://edelweiss-hirschau.de/event/geburstagsvortl-oktober-november-mit-laufenden-wild-martinigans-und-schuetzenbufett/
LOCATION:Schützenheim Edelweiß Hirschau\, Hauptstraße 1\, Hirschau\, Bayern\, 92242\, Germany
CATEGORIES:Gesellschaftliche Veranstaltung
END:VEVENT
BEGIN:VEVENT
DTSTART;TZID=UTC:20251116T084500
DTEND;TZID=UTC:20251116T120000
DTSTAMP:20260421T224607
CREATED:20250727T123638Z
LAST-MODIFIED:20250727T123638Z
UID:697-1763282700-1763294400@edelweiss-hirschau.de
SUMMARY:Volkstrauertag mit Kirchenzug und Fahne\, anchließend Frühschoppen
DESCRIPTION:
URL:https://edelweiss-hirschau.de/event/volkstrauertag-mit-kirchenzug-und-fahne-anchliessend-fruehschoppen/
LOCATION:Schützenheim Edelweiß Hirschau\, Hauptstraße 1\, Hirschau\, Bayern\, 92242\, Germany
CATEGORIES:Gesellschaftliche Veranstaltung
END:VEVENT
END:VCALENDAR