BEGIN:VCALENDAR
VERSION:2.0
PRODID:-//Zimmerstutzen Schützengesellschaft „Edelweiss“ 1896 Hirschau e.V. - ECPv6.15.17//NONSGML v1.0//EN
CALSCALE:GREGORIAN
METHOD:PUBLISH
X-ORIGINAL-URL:https://edelweiss-hirschau.de
X-WR-CALDESC:Veranstaltungen für Zimmerstutzen Schützengesellschaft „Edelweiss“ 1896 Hirschau e.V.
REFRESH-INTERVAL;VALUE=DURATION:PT1H
X-Robots-Tag:noindex
X-PUBLISHED-TTL:PT1H
BEGIN:VTIMEZONE
TZID:UTC
BEGIN:STANDARD
TZOFFSETFROM:+0000
TZOFFSETTO:+0000
TZNAME:UTC
DTSTART:20250101T000000
END:STANDARD
END:VTIMEZONE
BEGIN:VEVENT
DTSTART;TZID=UTC:20260307T180000
DTEND;TZID=UTC:20260307T220000
DTSTAMP:20260421T153021
CREATED:20251223T203214Z
LAST-MODIFIED:20251223T203214Z
UID:765-1772906400-1772920800@edelweiss-hirschau.de
SUMMARY:Generalversammlung 2026
DESCRIPTION:
URL:https://edelweiss-hirschau.de/event/generalversammlung-2026/
LOCATION:Schützenheim Edelweiß Hirschau\, Hauptstraße 1\, Hirschau\, Bayern\, 92242\, Germany
CATEGORIES:Gesellschaftliche Veranstaltung
END:VEVENT
BEGIN:VEVENT
DTSTART;TZID=UTC:20260320T180000
DTEND;TZID=UTC:20260320T220000
DTSTAMP:20260421T153021
CREATED:20251223T201134Z
LAST-MODIFIED:20251223T201503Z
UID:729-1774029600-1774044000@edelweiss-hirschau.de
SUMMARY:Frühlingsschießen der Schützendamen
DESCRIPTION:
URL:https://edelweiss-hirschau.de/event/fruehlingsschiessen-der-schuetzendamen/
LOCATION:Schützenheim Edelweiß Hirschau\, Hauptstraße 1\, Hirschau\, Bayern\, 92242\, Germany
CATEGORIES:Gesellschaftliche Veranstaltung
END:VEVENT
BEGIN:VEVENT
DTSTART;TZID=UTC:20260325T193000
DTEND;TZID=UTC:20260325T220000
DTSTAMP:20260421T153021
CREATED:20251223T203316Z
LAST-MODIFIED:20251223T203316Z
UID:767-1774467000-1774476000@edelweiss-hirschau.de
SUMMARY:Ausschußsitzung
DESCRIPTION:
URL:https://edelweiss-hirschau.de/event/ausschusssitzung-7/
LOCATION:Schützenheim Edelweiß Hirschau\, Hauptstraße 1\, Hirschau\, Bayern\, 92242\, Germany
CATEGORIES:Gesellschaftliche Veranstaltung
END:VEVENT
END:VCALENDAR