BEGIN:VCALENDAR
VERSION:2.0
PRODID:-//Zimmerstutzen Schützengesellschaft „Edelweiss“ 1896 Hirschau e.V. - ECPv6.15.17//NONSGML v1.0//EN
CALSCALE:GREGORIAN
METHOD:PUBLISH
X-ORIGINAL-URL:https://edelweiss-hirschau.de
X-WR-CALDESC:Veranstaltungen für Zimmerstutzen Schützengesellschaft „Edelweiss“ 1896 Hirschau e.V.
REFRESH-INTERVAL;VALUE=DURATION:PT1H
X-Robots-Tag:noindex
X-PUBLISHED-TTL:PT1H
BEGIN:VTIMEZONE
TZID:UTC
BEGIN:STANDARD
TZOFFSETFROM:+0000
TZOFFSETTO:+0000
TZNAME:UTC
DTSTART:20250101T000000
END:STANDARD
END:VTIMEZONE
BEGIN:VEVENT
DTSTART;VALUE=DATE:20260507
DTEND;VALUE=DATE:20260514
DTSTAMP:20260421T152955
CREATED:20251223T203531Z
LAST-MODIFIED:20251223T203626Z
UID:773-1778112000-1778716799@edelweiss-hirschau.de
SUMMARY:Stadtmeisterschaft 2026
DESCRIPTION:
URL:https://edelweiss-hirschau.de/event/stadtmeisterschaft-2026/
LOCATION:Schützenheim Edelweiß Hirschau\, Hauptstraße 1\, Hirschau\, Bayern\, 92242\, Germany
CATEGORIES:Gesellschaftliche Veranstaltung
END:VEVENT
BEGIN:VEVENT
DTSTART;TZID=UTC:20260516T190000
DTEND;TZID=UTC:20260516T220000
DTSTAMP:20260421T152955
CREATED:20251223T203714Z
LAST-MODIFIED:20251223T203714Z
UID:775-1778958000-1778968800@edelweiss-hirschau.de
SUMMARY:Vereinsabend mit LW
DESCRIPTION:
URL:https://edelweiss-hirschau.de/event/vereinsabend-mit-lw/
LOCATION:Schützenheim Edelweiß Hirschau\, Hauptstraße 1\, Hirschau\, Bayern\, 92242\, Germany
CATEGORIES:Gesellschaftliche Veranstaltung
END:VEVENT
BEGIN:VEVENT
DTSTART;TZID=UTC:20260520T193000
DTEND;TZID=UTC:20260520T220000
DTSTAMP:20260421T152955
CREATED:20251223T203803Z
LAST-MODIFIED:20251223T203803Z
UID:777-1779305400-1779314400@edelweiss-hirschau.de
SUMMARY:Ausschußsitzung
DESCRIPTION:
URL:https://edelweiss-hirschau.de/event/ausschusssitzung-8/
LOCATION:Schützenheim Edelweiß Hirschau\, Hauptstraße 1\, Hirschau\, Bayern\, 92242\, Germany
CATEGORIES:Gesellschaftliche Veranstaltung
END:VEVENT
BEGIN:VEVENT
DTSTART;TZID=UTC:20260523T150000
DTEND;TZID=UTC:20260523T170000
DTSTAMP:20260421T152955
CREATED:20251223T203841Z
LAST-MODIFIED:20251223T203841Z
UID:779-1779548400-1779555600@edelweiss-hirschau.de
SUMMARY:Siegerehrung Stadtmeisterschaft
DESCRIPTION:
URL:https://edelweiss-hirschau.de/event/siegerehrung-stadtmeisterschaft/
LOCATION:Schützenheim Edelweiß Hirschau\, Hauptstraße 1\, Hirschau\, Bayern\, 92242\, Germany
CATEGORIES:Gesellschaftliche Veranstaltung
END:VEVENT
BEGIN:VEVENT
DTSTART;VALUE=DATE:20260524
DTEND;VALUE=DATE:20260525
DTSTAMP:20260421T152955
CREATED:20251223T201854Z
LAST-MODIFIED:20251223T202535Z
UID:742-1779580800-1779667199@edelweiss-hirschau.de
SUMMARY:Gartenfest 2026
DESCRIPTION:
URL:https://edelweiss-hirschau.de/event/gartenfest-2025/
LOCATION:Schützenheim Edelweiß Hirschau\, Hauptstraße 1\, Hirschau\, Bayern\, 92242\, Germany
CATEGORIES:Gesellschaftliche Veranstaltung
END:VEVENT
BEGIN:VEVENT
DTSTART;TZID=UTC:20260529T180000
DTEND;TZID=UTC:20260529T220000
DTSTAMP:20260421T152955
CREATED:20251223T201951Z
LAST-MODIFIED:20251223T201951Z
UID:744-1780077600-1780092000@edelweiss-hirschau.de
SUMMARY:Kochblumenvortl
DESCRIPTION:
URL:https://edelweiss-hirschau.de/event/kochblumenvortl/
LOCATION:Schützenheim Edelweiß Hirschau\, Hauptstraße 1\, Hirschau\, Bayern\, 92242\, Germany
CATEGORIES:Gesellschaftliche Veranstaltung
END:VEVENT
END:VCALENDAR