BEGIN:VCALENDAR
VERSION:2.0
PRODID:-//Zimmerstutzen Schützengesellschaft „Edelweiss“ 1896 Hirschau e.V. - ECPv6.15.17//NONSGML v1.0//EN
CALSCALE:GREGORIAN
METHOD:PUBLISH
X-WR-CALNAME:Zimmerstutzen Schützengesellschaft „Edelweiss“ 1896 Hirschau e.V.
X-ORIGINAL-URL:https://edelweiss-hirschau.de
X-WR-CALDESC:Veranstaltungen für Zimmerstutzen Schützengesellschaft „Edelweiss“ 1896 Hirschau e.V.
REFRESH-INTERVAL;VALUE=DURATION:PT1H
X-Robots-Tag:noindex
X-PUBLISHED-TTL:PT1H
BEGIN:VTIMEZONE
TZID:UTC
BEGIN:STANDARD
TZOFFSETFROM:+0000
TZOFFSETTO:+0000
TZNAME:UTC
DTSTART:20250101T000000
END:STANDARD
END:VTIMEZONE
BEGIN:VEVENT
DTSTART;TZID=UTC:20260613T193000
DTEND;TZID=UTC:20260613T223000
DTSTAMP:20260421T171815
CREATED:20251223T203947Z
LAST-MODIFIED:20251223T203947Z
UID:781-1781379000-1781389800@edelweiss-hirschau.de
SUMMARY:Geburstagsvortl April/Mai/Juni mit LW
DESCRIPTION:
URL:https://edelweiss-hirschau.de/event/geburstagsvortl-april-mai-juni-mit-lw/
LOCATION:Schützenheim Edelweiß Hirschau\, Hauptstraße 1\, Hirschau\, Bayern\, 92242\, Germany
CATEGORIES:Gesellschaftliche Veranstaltung
END:VEVENT
BEGIN:VEVENT
DTSTART;VALUE=DATE:20260627
DTEND;VALUE=DATE:20260628
DTSTAMP:20260421T171815
CREATED:20251223T204050Z
LAST-MODIFIED:20251223T204050Z
UID:783-1782518400-1782604799@edelweiss-hirschau.de
SUMMARY:Vereinsausflug nach Mainstockheim
DESCRIPTION:
URL:https://edelweiss-hirschau.de/event/vereinsausflug-nach-mainstockheim/
LOCATION:Schützenheim Edelweiß Hirschau\, Hauptstraße 1\, Hirschau\, Bayern\, 92242\, Germany
CATEGORIES:Gesellschaftliche Veranstaltung
END:VEVENT
END:VCALENDAR