BEGIN:VCALENDAR
VERSION:2.0
PRODID:-//Zimmerstutzen Schützengesellschaft „Edelweiss“ 1896 Hirschau e.V. - ECPv6.15.17//NONSGML v1.0//EN
CALSCALE:GREGORIAN
METHOD:PUBLISH
X-ORIGINAL-URL:https://edelweiss-hirschau.de
X-WR-CALDESC:Veranstaltungen für Zimmerstutzen Schützengesellschaft „Edelweiss“ 1896 Hirschau e.V.
REFRESH-INTERVAL;VALUE=DURATION:PT1H
X-Robots-Tag:noindex
X-PUBLISHED-TTL:PT1H
BEGIN:VTIMEZONE
TZID:UTC
BEGIN:STANDARD
TZOFFSETFROM:+0000
TZOFFSETTO:+0000
TZNAME:UTC
DTSTART:20250101T000000
END:STANDARD
END:VTIMEZONE
BEGIN:VEVENT
DTSTART;TZID=UTC:20261016T180000
DTEND;TZID=UTC:20261016T220000
DTSTAMP:20260422T184715
CREATED:20251223T202133Z
LAST-MODIFIED:20251223T202133Z
UID:748-1792173600-1792188000@edelweiss-hirschau.de
SUMMARY:Herbstvortl
DESCRIPTION:
URL:https://edelweiss-hirschau.de/event/herbstvortl/
LOCATION:Schützenheim Edelweiß Hirschau\, Hauptstraße 1\, Hirschau\, Bayern\, 92242\, Germany
CATEGORIES:Gesellschaftliche Veranstaltung
END:VEVENT
BEGIN:VEVENT
DTSTART;TZID=UTC:20261017T193000
DTEND;TZID=UTC:20261017T220000
DTSTAMP:20260422T184715
CREATED:20251223T204635Z
LAST-MODIFIED:20251223T204635Z
UID:797-1792265400-1792274400@edelweiss-hirschau.de
SUMMARY:Herbstvortl mit LW
DESCRIPTION:
URL:https://edelweiss-hirschau.de/event/herbstvortl-mit-lw/
LOCATION:Schützenheim Edelweiß Hirschau\, Hauptstraße 1\, Hirschau\, Bayern\, 92242\, Germany
CATEGORIES:Gesellschaftliche Veranstaltung
END:VEVENT
BEGIN:VEVENT
DTSTART;TZID=UTC:20261021T193000
DTEND;TZID=UTC:20261021T220000
DTSTAMP:20260422T184715
CREATED:20251223T204734Z
LAST-MODIFIED:20251223T204734Z
UID:799-1792611000-1792620000@edelweiss-hirschau.de
SUMMARY:Ausschußsitzung
DESCRIPTION:
URL:https://edelweiss-hirschau.de/event/ausschusssitzung-11/
LOCATION:Schützenheim Edelweiß Hirschau\, Hauptstraße 1\, Hirschau\, Bayern\, 92242\, Germany
CATEGORIES:Gesellschaftliche Veranstaltung
END:VEVENT
BEGIN:VEVENT
DTSTART;TZID=UTC:20261030T180000
DTEND;TZID=UTC:20261030T220000
DTSTAMP:20260422T184715
CREATED:20251223T202225Z
LAST-MODIFIED:20251223T202225Z
UID:750-1793383200-1793397600@edelweiss-hirschau.de
SUMMARY:Halloweenschießen
DESCRIPTION:
URL:https://edelweiss-hirschau.de/event/halloweenschiessen/
LOCATION:Schützenheim Edelweiß Hirschau\, Hauptstraße 1\, Hirschau\, Bayern\, 92242\, Germany
CATEGORIES:Gesellschaftliche Veranstaltung
END:VEVENT
END:VCALENDAR